BEGIN:VCALENDAR
VERSION:2.0
PRODID:-//Chanchalben Mafatlal Patel College of Physiotherapy - ECPv6.13.2.1//NONSGML v1.0//EN
CALSCALE:GREGORIAN
METHOD:PUBLISH
X-WR-CALNAME:Chanchalben Mafatlal Patel College of Physiotherapy
X-ORIGINAL-URL:http://cmpp.org.in
X-WR-CALDESC:Events for Chanchalben Mafatlal Patel College of Physiotherapy
REFRESH-INTERVAL;VALUE=DURATION:PT1H
X-Robots-Tag:noindex
X-PUBLISHED-TTL:PT1H
BEGIN:VTIMEZONE
TZID:Asia/Kolkata
BEGIN:STANDARD
TZOFFSETFROM:+0530
TZOFFSETTO:+0530
TZNAME:IST
DTSTART:20250101T000000
END:STANDARD
END:VTIMEZONE
BEGIN:VEVENT
DTSTART;TZID=Asia/Kolkata:20250324T140000
DTEND;TZID=Asia/Kolkata:20250324T150000
DTSTAMP:20260425T010942
CREATED:20250321T164136Z
LAST-MODIFIED:20250324T163900Z
UID:1273-1742824800-1742828400@cmpp.org.in
SUMMARY:Expert talk on world tuberculosis day
DESCRIPTION:Topic: Tuberculosis -Awreness\, Diagnosis & Treatment\nSpeaker: Dr Rushi Rashmikant Patel\nMD (Respiratory Medicine)\, PGDMLPE\nProfessor\, Respiratory Medicine department\, GCS Medical College Hospital and Research Centre\, Ahemdabad
URL:http://cmpp.org.in/event/expert-talk-on-world-tuberculosis-day/
LOCATION:Chanchalben Mafatlal Patel College of Physiotherapy\, CMP College\, Civil Hospital Campus\, Sector 12B\,\, Gandhinagar\, Gujarat\, 382012\, India
ATTACH;FMTTYPE=image/jpeg:http://cmpp.org.in/wp-content/uploads/2025/03/2.jpg
ORGANIZER;CN="Chanchalben Mafatlal Patel College of Physiotherapy":MAILTO:info@cmpp.org.in
END:VEVENT
END:VCALENDAR