BEGIN:VCALENDAR
VERSION:2.0
PRODID:-//Chanchalben Mafatlal Patel College of Physiotherapy - ECPv6.13.2.1//NONSGML v1.0//EN
CALSCALE:GREGORIAN
METHOD:PUBLISH
X-ORIGINAL-URL:http://cmpp.org.in
X-WR-CALDESC:Events for Chanchalben Mafatlal Patel College of Physiotherapy
REFRESH-INTERVAL;VALUE=DURATION:PT1H
X-Robots-Tag:noindex
X-PUBLISHED-TTL:PT1H
BEGIN:VTIMEZONE
TZID:Asia/Kolkata
BEGIN:STANDARD
TZOFFSETFROM:+0530
TZOFFSETTO:+0530
TZNAME:IST
DTSTART:20250101T000000
END:STANDARD
END:VTIMEZONE
BEGIN:VEVENT
DTSTART;TZID=Asia/Kolkata:20250917T080000
DTEND;TZID=Asia/Kolkata:20250917T110000
DTSTAMP:20260424T095242
CREATED:20250916T051924Z
LAST-MODIFIED:20250916T112834Z
UID:1332-1758096000-1758106800@cmpp.org.in
SUMMARY:Elocution - The confluence of youth and culture
DESCRIPTION:Topic : The confluence of youth and culture
URL:http://cmpp.org.in/event/elocution-the-confluence-of-youth-and-culture/
LOCATION:Chanchalben Mafatlal Patel College of Physiotherapy\, CMP College\, Civil Hospital Campus\, Sector 12B\,\, Gandhinagar\, Gujarat\, 382012\, India
ATTACH;FMTTYPE=image/jpeg:http://cmpp.org.in/wp-content/uploads/2025/09/elocution.jpg
ORGANIZER;CN="Chanchalben Mafatlal Patel College of Physiotherapy":MAILTO:info@cmpp.org.in
END:VEVENT
END:VCALENDAR