BEGIN:VCALENDAR
VERSION:2.0
PRODID:-//Chanchalben Mafatlal Patel College of Physiotherapy - ECPv6.13.2.1//NONSGML v1.0//EN
CALSCALE:GREGORIAN
METHOD:PUBLISH
X-WR-CALNAME:Chanchalben Mafatlal Patel College of Physiotherapy
X-ORIGINAL-URL:http://cmpp.org.in
X-WR-CALDESC:Events for Chanchalben Mafatlal Patel College of Physiotherapy
REFRESH-INTERVAL;VALUE=DURATION:PT1H
X-Robots-Tag:noindex
X-PUBLISHED-TTL:PT1H
BEGIN:VTIMEZONE
TZID:Asia/Kolkata
BEGIN:STANDARD
TZOFFSETFROM:+0530
TZOFFSETTO:+0530
TZNAME:IST
DTSTART:20250101T000000
END:STANDARD
END:VTIMEZONE
BEGIN:VEVENT
DTSTART;VALUE=DATE:20250919
DTEND;VALUE=DATE:20250921
DTSTAMP:20260424T095236
CREATED:20250905T071840Z
LAST-MODIFIED:20250905T072103Z
UID:1322-1758240000-1758412799@cmpp.org.in
SUMMARY:Youth Festival: Sangat-2025
DESCRIPTION:
URL:http://cmpp.org.in/event/youth-festival-sangat-2025-%e0%aa%b8%e0%aa%82%e0%aa%b8%e0%ab%8d%e0%aa%95%e0%ab%83%e0%aa%a4%e0%aa%bf%e0%aa%a8%e0%ab%80-%e0%aa%b8%e0%ab%81%e0%aa%97%e0%aa%82%e0%aa%a7/
LOCATION:Chanchalben Mafatlal Patel College of Physiotherapy\, CMP College\, Civil Hospital Campus\, Sector 12B\,\, Gandhinagar\, Gujarat\, 382012\, India
END:VEVENT
END:VCALENDAR