BEGIN:VCALENDAR
VERSION:2.0
PRODID:-//Chanchalben Mafatlal Patel College of Physiotherapy - ECPv6.13.2.1//NONSGML v1.0//EN
CALSCALE:GREGORIAN
METHOD:PUBLISH
X-ORIGINAL-URL:http://cmpp.org.in
X-WR-CALDESC:Events for Chanchalben Mafatlal Patel College of Physiotherapy
REFRESH-INTERVAL;VALUE=DURATION:PT1H
X-Robots-Tag:noindex
X-PUBLISHED-TTL:PT1H
BEGIN:VTIMEZONE
TZID:Asia/Kolkata
BEGIN:STANDARD
TZOFFSETFROM:+0530
TZOFFSETTO:+0530
TZNAME:IST
DTSTART:20260101T000000
END:STANDARD
END:VTIMEZONE
BEGIN:VEVENT
DTSTART;VALUE=DATE:20260202
DTEND;VALUE=DATE:20260224
DTSTAMP:20260424T014842
CREATED:20260302T101636Z
LAST-MODIFIED:20260306T030115Z
UID:1489-1769990400-1771891199@cmpp.org.in
SUMMARY:Step-up for Excellence in Entrepreneurship Development (SEED-2026) Training Program
DESCRIPTION:Proud Moment!\nSuccessfully completed the Step-up for Excellence in Entrepreneurship Development (SEED-2026) Training Program\n– Organized by: Women Entrepreneurship Cell – Kadi Sarva Vishwavidyalaya\nParticipants name: Bhamare Amar Bharatkumar & Purabiya Mohit Umeshkumar.\n– Duration: 2nd February 2026 – 23rd February 2026\n– 15 Days On-Board Training (105 Hours)\n– 6 Days Off-Board Field Work (15 Hours)\n– Total Training: 120 Hours\nSubmitted Business Plan Report & Venture Presentation ??\nAnother step towards building my entrepreneurial journey ?\nunder the guidance of program coordinator at Chanchalben Mafatlal Patel college of Physiotherapy Dr. Ashka Patel.\n#SEED2026 #Entrepreneurship #StartupJourney #BusinessMindset #KSV #WomenEntrepreneurshipCell #FutureEntrepreneur #MohitPurabiya
URL:http://cmpp.org.in/event/step-up-for-excellence-in-entrepreneurship-development-seed-2026-training-program/
LOCATION:Gujarat
ATTACH;FMTTYPE=image/jpeg:http://cmpp.org.in/wp-content/uploads/2026/03/20260226_115525AMByGPSMapCamera-scaled.jpeg
ORGANIZER;CN="Chanchalben Mafatlal Patel College of Physiotherapy":MAILTO:info@cmpp.org.in
END:VEVENT
BEGIN:VEVENT
DTSTART;VALUE=DATE:20260209
DTEND;VALUE=DATE:20260214
DTSTAMP:20260424T014842
CREATED:20260302T101441Z
LAST-MODIFIED:20260302T101441Z
UID:1477-1770595200-1771027199@cmpp.org.in
SUMMARY:Mobile Physiotherapy camp
DESCRIPTION:Mobile Physiotherapy camp conducted at Gujarat Jalseva Training institute \, Gandhinagar on 9th February to 13 February 2026.
URL:http://cmpp.org.in/event/mobile-physiotherapy-camp/
LOCATION:Gujarat
ATTACH;FMTTYPE=image/jpeg:http://cmpp.org.in/wp-content/uploads/2026/03/WhatsApp-Image-2026-02-27-at-14.53.20.jpeg
ORGANIZER;CN="Chanchalben Mafatlal Patel College of Physiotherapy":MAILTO:info@cmpp.org.in
END:VEVENT
BEGIN:VEVENT
DTSTART;VALUE=DATE:20260213
DTEND;VALUE=DATE:20260214
DTSTAMP:20260424T014842
CREATED:20260216T113247Z
LAST-MODIFIED:20260216T113326Z
UID:1452-1770940800-1771027199@cmpp.org.in
SUMMARY:WDC Prize Distribution on 13.02.2026
DESCRIPTION:WDC Prize Distribution on 13.02.2026 \nDuring the academic year 2025–2026\, the Women Development Cell (WDC) under KSV organized several events under the theme of Abbakka Devi. The following students secured top positions in various competitions:\nUnder the guidance of Dr.Minita Chauhan WDC co-ordinator C M Patel College of Physiotherapy \n•? ?Shukla Prutha – First Rank in Quiz Competition\n•? ?Asodiya Krina – First Rank in Basic Life Support\n•? ?Makwana Joshna – Second Rank in Basic Life Support\n•? ?Gupta Mauli – Second Rank in Drawing Competition
URL:http://cmpp.org.in/event/wdc-prize-distribution-on-13-02-2026/
LOCATION:Chanchalben Mafatlal Patel College of Physiotherapy\, CMP College\, Civil Hospital Campus\, Sector 12B\,\, Gandhinagar\, Gujarat\, 382012\, India
ATTACH;FMTTYPE=image/jpeg:http://cmpp.org.in/wp-content/uploads/2026/02/111-scaled.jpeg
ORGANIZER;CN="Chanchalben Mafatlal Patel College of Physiotherapy":MAILTO:info@cmpp.org.in
END:VEVENT
END:VCALENDAR