BEGIN:VCALENDAR
VERSION:2.0
PRODID:-//Chanchalben Mafatlal Patel College of Physiotherapy - ECPv6.13.2.1//NONSGML v1.0//EN
CALSCALE:GREGORIAN
METHOD:PUBLISH
X-WR-CALNAME:Chanchalben Mafatlal Patel College of Physiotherapy
X-ORIGINAL-URL:http://cmpp.org.in
X-WR-CALDESC:Events for Chanchalben Mafatlal Patel College of Physiotherapy
REFRESH-INTERVAL;VALUE=DURATION:PT1H
X-Robots-Tag:noindex
X-PUBLISHED-TTL:PT1H
BEGIN:VTIMEZONE
TZID:Asia/Kolkata
BEGIN:STANDARD
TZOFFSETFROM:+0530
TZOFFSETTO:+0530
TZNAME:IST
DTSTART:20260101T000000
END:STANDARD
END:VTIMEZONE
BEGIN:VEVENT
DTSTART;TZID=Asia/Kolkata:20260323T090000
DTEND;TZID=Asia/Kolkata:20260323T100000
DTSTAMP:20260424T044720
CREATED:20260318T015248Z
LAST-MODIFIED:20260318T015248Z
UID:1512-1774256400-1774260000@cmpp.org.in
SUMMARY:Alumni express – DR. PARTH VANIYA
DESCRIPTION:
URL:http://cmpp.org.in/event/alumni-express-dr-parth-vaniya/
LOCATION:Chanchalben Mafatlal Patel College of Physiotherapy\, CMP College\, Civil Hospital Campus\, Sector 12B\,\, Gandhinagar\, Gujarat\, 382012\, India
ATTACH;FMTTYPE=image/jpeg:http://cmpp.org.in/wp-content/uploads/2026/03/2232.jpeg
ORGANIZER;CN="Chanchalben Mafatlal Patel College of Physiotherapy":MAILTO:info@cmpp.org.in
END:VEVENT
BEGIN:VEVENT
DTSTART;VALUE=DATE:20260410
DTEND;VALUE=DATE:20260412
DTSTAMP:20260424T044720
CREATED:20260305T110012Z
LAST-MODIFIED:20260305T110012Z
UID:1495-1775779200-1775951999@cmpp.org.in
SUMMARY:PHYSIO ZENITH 2026- NATIONAL PHYSIOTHERAPY CONFERENCE
DESCRIPTION:
URL:http://cmpp.org.in/event/physio-zenith-2026-national-physiotherapy-conference/
LOCATION:Chanchalben Mafatlal Patel College of Physiotherapy\, CMP College\, Civil Hospital Campus\, Sector 12B\,\, Gandhinagar\, Gujarat\, 382012\, India
ATTACH;FMTTYPE=image/jpeg:http://cmpp.org.in/wp-content/uploads/2026/03/physio-zenith.jpeg
ORGANIZER;CN="Chanchalben Mafatlal Patel College of Physiotherapy":MAILTO:info@cmpp.org.in
END:VEVENT
BEGIN:VEVENT
DTSTART;VALUE=DATE:20260410
DTEND;VALUE=DATE:20260412
DTSTAMP:20260424T044720
CREATED:20260311T075350Z
LAST-MODIFIED:20260311T075350Z
UID:1509-1775779200-1775951999@cmpp.org.in
SUMMARY:SCIENTIFIC EVENTS – PHYSIO ZENITH 2026
DESCRIPTION:SCIENTIFIC EVENTS \nPAPER AND POSTER PRESENTATIONS
URL:http://cmpp.org.in/event/scientific-events-physio-zenith-2026/
LOCATION:Chanchalben Mafatlal Patel College of Physiotherapy\, CMP College\, Civil Hospital Campus\, Sector 12B\,\, Gandhinagar\, Gujarat\, 382012\, India
ATTACH;FMTTYPE=image/jpeg:http://cmpp.org.in/wp-content/uploads/2026/03/1-4-1.jpeg
ORGANIZER;CN="Chanchalben Mafatlal Patel College of Physiotherapy":MAILTO:info@cmpp.org.in
END:VEVENT
BEGIN:VEVENT
DTSTART;TZID=Asia/Kolkata:20260411T083000
DTEND;TZID=Asia/Kolkata:20260411T120000
DTSTAMP:20260424T044720
CREATED:20260311T074406Z
LAST-MODIFIED:20260311T074406Z
UID:1502-1775896200-1775908800@cmpp.org.in
SUMMARY:Workshop - PHYSIO ZENITH 2026
DESCRIPTION:Dr. Kaushal Bhatt (PT) \nFrom Diagnosis to Intervention :\nStructure Rehabilitation\nPathway in Autism \n  \nDr. Deepak Kachalia (PT) \nClinical Diagnosis and Management of\nKnee Injuries – Knee and Ankle Tapping
URL:http://cmpp.org.in/event/workshop-physio-zenith-2026/
LOCATION:Chanchalben Mafatlal Patel College of Physiotherapy\, CMP College\, Civil Hospital Campus\, Sector 12B\,\, Gandhinagar\, Gujarat\, 382012\, India
ATTACH;FMTTYPE=image/jpeg:http://cmpp.org.in/wp-content/uploads/2026/03/4-4-2.jpeg
ORGANIZER;CN="Chanchalben Mafatlal Patel College of Physiotherapy":MAILTO:info@cmpp.org.in
END:VEVENT
END:VCALENDAR