BEGIN:VCALENDAR
VERSION:2.0
PRODID:-//Chanchalben Mafatlal Patel College of Physiotherapy - ECPv6.13.2.1//NONSGML v1.0//EN
CALSCALE:GREGORIAN
METHOD:PUBLISH
X-WR-CALNAME:Chanchalben Mafatlal Patel College of Physiotherapy
X-ORIGINAL-URL:http://cmpp.org.in
X-WR-CALDESC:Events for Chanchalben Mafatlal Patel College of Physiotherapy
REFRESH-INTERVAL;VALUE=DURATION:PT1H
X-Robots-Tag:noindex
X-PUBLISHED-TTL:PT1H
BEGIN:VTIMEZONE
TZID:Asia/Kolkata
BEGIN:STANDARD
TZOFFSETFROM:+0530
TZOFFSETTO:+0530
TZNAME:IST
DTSTART:20150101T000000
END:STANDARD
END:VTIMEZONE
BEGIN:VEVENT
DTSTART;TZID=Asia/Kolkata:20230916T110000
DTEND;TZID=Asia/Kolkata:20230916T120000
DTSTAMP:20260425T192242
CREATED:20230913T050303Z
LAST-MODIFIED:20231009T145939Z
UID:964-1694862000-1694865600@cmpp.org.in
SUMMARY:Alumni Express - Dr. Shivani Goswami
DESCRIPTION:
URL:http://cmpp.org.in/event/alumni-express-dr-shivani-goswami/
LOCATION:Gujarat
ATTACH;FMTTYPE=image/jpeg:http://cmpp.org.in/wp-content/uploads/2023/09/WhatsApp-Image-2023-09-12-at-12.26.301.jpeg
END:VEVENT
BEGIN:VEVENT
DTSTART;TZID=Asia/Kolkata:20230916T100000
DTEND;TZID=Asia/Kolkata:20230916T110000
DTSTAMP:20260425T192242
CREATED:20230913T050133Z
LAST-MODIFIED:20230913T050340Z
UID:962-1694858400-1694862000@cmpp.org.in
SUMMARY:Alumni Express - Dr. Jigna Chaudhari
DESCRIPTION:
URL:http://cmpp.org.in/event/alumni-express-dr-jigna-chaudhari/
LOCATION:Gujarat
ATTACH;FMTTYPE=image/jpeg:http://cmpp.org.in/wp-content/uploads/2023/09/WhatsApp-Image-2023-09-12-at-12.26.30.jpeg
END:VEVENT
BEGIN:VEVENT
DTSTART;TZID=Asia/Kolkata:20150725T080000
DTEND;TZID=Asia/Kolkata:20150726T170000
DTSTAMP:20260425T192242
CREATED:20150723T231625Z
LAST-MODIFIED:20150723T231625Z
UID:90-1437811200-1437930000@cmpp.org.in
SUMMARY:Seminar on Physiotherapy
DESCRIPTION:Seminar on Physiotherapy at the college. All are invited.
URL:http://cmpp.org.in/event/seminar-on-physiotherapy/
LOCATION:Chanchalben Mafatlal Patel College of Physiotherapy\, CMP College\, Civil Hospital Campus\, Sector 12B\,\, Gandhinagar\, Gujarat\, 382012\, India
ORGANIZER;CN="Chanchalben Mafatlal Patel College of Physiotherapy":MAILTO:info@cmpp.org.in
END:VEVENT
END:VCALENDAR