BEGIN:VCALENDAR
VERSION:2.0
PRODID:-//Chanchalben Mafatlal Patel College of Physiotherapy - ECPv6.13.2.1//NONSGML v1.0//EN
CALSCALE:GREGORIAN
METHOD:PUBLISH
X-WR-CALNAME:Chanchalben Mafatlal Patel College of Physiotherapy
X-ORIGINAL-URL:http://cmpp.org.in
X-WR-CALDESC:Events for Chanchalben Mafatlal Patel College of Physiotherapy
REFRESH-INTERVAL;VALUE=DURATION:PT1H
X-Robots-Tag:noindex
X-PUBLISHED-TTL:PT1H
BEGIN:VTIMEZONE
TZID:Asia/Kolkata
BEGIN:STANDARD
TZOFFSETFROM:+0530
TZOFFSETTO:+0530
TZNAME:IST
DTSTART:20240101T000000
END:STANDARD
END:VTIMEZONE
BEGIN:VEVENT
DTSTART;VALUE=DATE:20240813
DTEND;VALUE=DATE:20240814
DTSTAMP:20260425T055448
CREATED:20240808T030641Z
LAST-MODIFIED:20240808T030641Z
UID:1144-1723507200-1723593599@cmpp.org.in
SUMMARY:Institutional visit at U.N.Mehta Institute of Cardiology & Research
DESCRIPTION:
URL:http://cmpp.org.in/event/institutional-visit-at-u-n-mehta-institute-of-cardiology-research/
LOCATION:Gujarat
END:VEVENT
BEGIN:VEVENT
DTSTART;VALUE=DATE:20240814
DTEND;VALUE=DATE:20240815
DTSTAMP:20260425T055448
CREATED:20240808T030753Z
LAST-MODIFIED:20240808T030753Z
UID:1146-1723593600-1723679999@cmpp.org.in
SUMMARY:Alumni Express - Dr.Priyanka Khandelwal
DESCRIPTION:Alumni Express session on Unveiling Vascular Health: Physiotherapy Insights into Assessing and Managing Venous Disorders by Dr.Priyanka Khandelwal
URL:http://cmpp.org.in/event/alumni-express-dr-priyanka-khandelwal/
LOCATION:Gujarat
END:VEVENT
END:VCALENDAR