BEGIN:VCALENDAR
VERSION:2.0
PRODID:-//Chanchalben Mafatlal Patel College of Physiotherapy - ECPv6.13.2.1//NONSGML v1.0//EN
CALSCALE:GREGORIAN
METHOD:PUBLISH
X-WR-CALNAME:Chanchalben Mafatlal Patel College of Physiotherapy
X-ORIGINAL-URL:http://cmpp.org.in
X-WR-CALDESC:Events for Chanchalben Mafatlal Patel College of Physiotherapy
REFRESH-INTERVAL;VALUE=DURATION:PT1H
X-Robots-Tag:noindex
X-PUBLISHED-TTL:PT1H
BEGIN:VTIMEZONE
TZID:Asia/Kolkata
BEGIN:STANDARD
TZOFFSETFROM:+0530
TZOFFSETTO:+0530
TZNAME:IST
DTSTART:20240101T000000
END:STANDARD
END:VTIMEZONE
BEGIN:VEVENT
DTSTART;VALUE=DATE:20241215
DTEND;VALUE=DATE:20241219
DTSTAMP:20260425T010953
CREATED:20241210T080033Z
LAST-MODIFIED:20241210T080033Z
UID:1168-1734220800-1734566399@cmpp.org.in
SUMMARY:Institutional visit at Bhagwan Mahaveer Vikalang Sahayata Samiti (BMVSS)
DESCRIPTION:Institutional visit at Bhagwan Mahaveer Vikalang Sahayata Samiti (BMVSS)\, Jaipur\, Rajasthan and tour to Jaipur & Udaipur\, Rajasthan.
URL:http://cmpp.org.in/event/institutional-visit-at-bhagwan-mahaveer-vikalang-sahayata-samiti-bmvss/
LOCATION:Gujarat
ORGANIZER;CN="Chanchalben Mafatlal Patel College of Physiotherapy":MAILTO:info@cmpp.org.in
END:VEVENT
BEGIN:VEVENT
DTSTART;VALUE=DATE:20241220
DTEND;VALUE=DATE:20241221
DTSTAMP:20260425T010953
CREATED:20241221T055821Z
LAST-MODIFIED:20241221T055821Z
UID:1171-1734652800-1734739199@cmpp.org.in
SUMMARY:Anti Drug Awareness Session
DESCRIPTION:
URL:http://cmpp.org.in/event/anti-drug-awareness-session/
LOCATION:Chanchalben Mafatlal Patel College of Physiotherapy\, CMP College\, Civil Hospital Campus\, Sector 12B\,\, Gandhinagar\, Gujarat\, 382012\, India
END:VEVENT
BEGIN:VEVENT
DTSTART;VALUE=DATE:20241221
DTEND;VALUE=DATE:20241222
DTSTAMP:20260425T010953
CREATED:20241221T055853Z
LAST-MODIFIED:20241221T060436Z
UID:1173-1734739200-1734825599@cmpp.org.in
SUMMARY:Career Counselling for Physiotherapy students
DESCRIPTION:
URL:http://cmpp.org.in/event/career-counselling-for-physiotherapy-students/
LOCATION:Chanchalben Mafatlal Patel College of Physiotherapy\, CMP College\, Civil Hospital Campus\, Sector 12B\,\, Gandhinagar\, Gujarat\, 382012\, India
ORGANIZER;CN="Chanchalben Mafatlal Patel College of Physiotherapy":MAILTO:info@cmpp.org.in
END:VEVENT
END:VCALENDAR