BEGIN:VCALENDAR
VERSION:2.0
PRODID:-//Chanchalben Mafatlal Patel College of Physiotherapy - ECPv6.13.2.1//NONSGML v1.0//EN
CALSCALE:GREGORIAN
METHOD:PUBLISH
X-WR-CALNAME:Chanchalben Mafatlal Patel College of Physiotherapy
X-ORIGINAL-URL:http://cmpp.org.in
X-WR-CALDESC:Events for Chanchalben Mafatlal Patel College of Physiotherapy
REFRESH-INTERVAL;VALUE=DURATION:PT1H
X-Robots-Tag:noindex
X-PUBLISHED-TTL:PT1H
BEGIN:VTIMEZONE
TZID:Asia/Kolkata
BEGIN:STANDARD
TZOFFSETFROM:+0530
TZOFFSETTO:+0530
TZNAME:IST
DTSTART:20250101T000000
END:STANDARD
END:VTIMEZONE
BEGIN:VEVENT
DTSTART;VALUE=DATE:20250104
DTEND;VALUE=DATE:20250105
DTSTAMP:20260424T220254
CREATED:20250102T123754Z
LAST-MODIFIED:20250102T123754Z
UID:1190-1735948800-1736035199@cmpp.org.in
SUMMARY: Fresher's Party
DESCRIPTION:
URL:http://cmpp.org.in/event/freshers-party/
LOCATION:Chanchalben Mafatlal Patel College of Physiotherapy\, CMP College\, Civil Hospital Campus\, Sector 12B\,\, Gandhinagar\, Gujarat\, 382012\, India
ORGANIZER;CN="Chanchalben Mafatlal Patel College of Physiotherapy":MAILTO:info@cmpp.org.in
END:VEVENT
BEGIN:VEVENT
DTSTART;TZID=Asia/Kolkata:20250123T140000
DTEND;TZID=Asia/Kolkata:20250123T160000
DTSTAMP:20260424T220254
CREATED:20250121T042704Z
LAST-MODIFIED:20250121T105642Z
UID:1196-1737640800-1737648000@cmpp.org.in
SUMMARY:Expert Talk on Stroke Rehabilitation : Practical Approach
DESCRIPTION:Speaker: Dr.Gira Thakrar. Ph.D (Physiotherapy)
URL:http://cmpp.org.in/event/expert-talk-on-stroke-rehabilitation-practical-approach/
LOCATION:Chanchalben Mafatlal Patel College of Physiotherapy\, CMP College\, Civil Hospital Campus\, Sector 12B\,\, Gandhinagar\, Gujarat\, 382012\, India
ATTACH;FMTTYPE=image/jpeg:http://cmpp.org.in/wp-content/uploads/2025/01/talk.jpg
ORGANIZER;CN="Chanchalben Mafatlal Patel College of Physiotherapy":MAILTO:info@cmpp.org.in
END:VEVENT
BEGIN:VEVENT
DTSTART;TZID=Asia/Kolkata:20250129T150000
DTEND;TZID=Asia/Kolkata:20250129T160000
DTSTAMP:20260424T220254
CREATED:20250129T052202Z
LAST-MODIFIED:20250129T052202Z
UID:1200-1738162800-1738166400@cmpp.org.in
SUMMARY:Alumni Express - Dr. Nilesh Devani
DESCRIPTION:Alumni Express session on Agility Testing and Trainingand Managing Venous Disorders by Dr. Nilesh Devani\, MPT Sports Science – H.O.D. Namostute Physiotherapy and Rehab Center
URL:http://cmpp.org.in/event/alumni-express-dr-nilesh-devani/
LOCATION:Chanchalben Mafatlal Patel College of Physiotherapy\, CMP College\, Civil Hospital Campus\, Sector 12B\,\, Gandhinagar\, Gujarat\, 382012\, India
ORGANIZER;CN="Chanchalben Mafatlal Patel College of Physiotherapy":MAILTO:info@cmpp.org.in
END:VEVENT
END:VCALENDAR