BEGIN:VCALENDAR
VERSION:2.0
PRODID:-//Chanchalben Mafatlal Patel College of Physiotherapy - ECPv6.13.2.1//NONSGML v1.0//EN
CALSCALE:GREGORIAN
METHOD:PUBLISH
X-ORIGINAL-URL:http://cmpp.org.in
X-WR-CALDESC:Events for Chanchalben Mafatlal Patel College of Physiotherapy
REFRESH-INTERVAL;VALUE=DURATION:PT1H
X-Robots-Tag:noindex
X-PUBLISHED-TTL:PT1H
BEGIN:VTIMEZONE
TZID:Asia/Kolkata
BEGIN:STANDARD
TZOFFSETFROM:+0530
TZOFFSETTO:+0530
TZNAME:IST
DTSTART:20250101T000000
END:STANDARD
END:VTIMEZONE
BEGIN:VEVENT
DTSTART;TZID=Asia/Kolkata:20251205T143000
DTEND;TZID=Asia/Kolkata:20251205T160000
DTSTAMP:20260424T033839
CREATED:20251205T141018Z
LAST-MODIFIED:20251223T050232Z
UID:1345-1764945000-1764950400@cmpp.org.in
SUMMARY:Orientation program of Department of International Relations\, SVKM
DESCRIPTION:Orientation Program on International Relations\, Communication Skills & Mental Wellbeing\nAn Orientation Program introducing the Department of International Relations (DiR)\, SVKM\, Communication Skills and iSEP Cell\, KSV\, and the Mental Health and Wellbeing Cell\, SVKM was organized on 05th December 2025 at the Shardaben Bhagubhai Patel Sankul Auditorium\, Sector-12\, Gandhinagar for the students of C.M. Patel College of Physiotherapy. \nThe program aimed to acquaint students with academic\, international\, communication\, and wellbeing initiatives that support holistic student development. \nThe session featured speakers Ms. Amee Brahmbhatt\, Dr. Deval Jadav\, and Ms. Bhoomi Patel from DiR\, SVKM who shared insights on communication and soft-skill training\, career counselling and study-abroad opportunities\, and mental health and wellness support services respectively. \nThe program began with a welcome address by Ms. Shailee Menpara (2nd MPT student) and witnessed active participation from 244 students. The orientation concluded with a Vote of Thanks delivered by Dr. Parth Trivedi\, expressing gratitude to the management\, faculty\, guest speakers\, and students. \nThe event successfully enhanced student awareness about global exposure opportunities\, communication skill development\, career planning\, and mental wellbeing resources available at SVKM.
URL:http://cmpp.org.in/event/orientation-program-of-department-of-international-relations-svkm/
LOCATION:Chanchalben Mafatlal Patel College of Physiotherapy\, CMP College\, Civil Hospital Campus\, Sector 12B\,\, Gandhinagar\, Gujarat\, 382012\, India
ORGANIZER;CN="Chanchalben Mafatlal Patel College of Physiotherapy":MAILTO:info@cmpp.org.in
END:VEVENT
BEGIN:VEVENT
DTSTART;TZID=Asia/Kolkata:20251218T093000
DTEND;TZID=Asia/Kolkata:20251218T103000
DTSTAMP:20260424T033839
CREATED:20251216T132355Z
LAST-MODIFIED:20251223T050209Z
UID:1351-1766050200-1766053800@cmpp.org.in
SUMMARY:Research orientation program by MMPSRPC  for FYBPT AND FYMPT
DESCRIPTION:The Orientation Program of the M. M. Patel Students Research Cell – KSV for students of C. M. Patel College of Physiotherapy and C. M. Patel College of Nursing was held on 18th December 2025\, 9:30 AM-10:30 AM \n• The event was coordinated by Dr. Mayur Solanki and Dr. Rachana Shah\, and aimed at introducing the research cell’s objectives and opportunities to the students. The program was attended by 12 FYMPT students\, 69 FYBPT students and 66 SYBPT students.(Total 147) \n• The event was graced by the Principal of C. M. Patel College of Physiotherapy\, the Vice Principal of C. M. Patel College of Nursing\, and the research cell coordinators from CMPP. It started with a warm welcome to the esteemed guests and all other present in the auditorium.
URL:http://cmpp.org.in/event/research-orientation-program-by-mmpsrpc-for-fybpt-and-fympt/
LOCATION:Chanchalben Mafatlal Patel College of Physiotherapy\, CMP College\, Civil Hospital Campus\, Sector 12B\,\, Gandhinagar\, Gujarat\, 382012\, India
ORGANIZER;CN="Chanchalben Mafatlal Patel College of Physiotherapy":MAILTO:info@cmpp.org.in
END:VEVENT
BEGIN:VEVENT
DTSTART;VALUE=DATE:20251229
DTEND;VALUE=DATE:20260103
DTSTAMP:20260424T033839
CREATED:20251222T225648Z
LAST-MODIFIED:20251222T225648Z
UID:1370-1766966400-1767398399@cmpp.org.in
SUMMARY:Physio Beats
DESCRIPTION:Sports Days and Cultural Events
URL:http://cmpp.org.in/event/physio-beats/
LOCATION:Chanchalben Mafatlal Patel College of Physiotherapy\, CMP College\, Civil Hospital Campus\, Sector 12B\,\, Gandhinagar\, Gujarat\, 382012\, India
ATTACH;FMTTYPE=image/jpeg:http://cmpp.org.in/wp-content/uploads/2025/12/event-beats.jpeg
ORGANIZER;CN="Chanchalben Mafatlal Patel College of Physiotherapy":MAILTO:info@cmpp.org.in
END:VEVENT
BEGIN:VEVENT
DTSTART;VALUE=DATE:20251229
DTEND;VALUE=DATE:20260104
DTSTAMP:20260424T033839
CREATED:20260119T011057Z
LAST-MODIFIED:20260119T011057Z
UID:1391-1766966400-1767484799@cmpp.org.in
SUMMARY:Cultural and sports week: Physiobeats 2025-26
DESCRIPTION:The week was organised at C M Patel college of physiotherapy from 29/12/25 to 3/1/26. The events included carrom\, chess\, volleyball\, cricket\, relay race\, 100 m race\, tug of war\, Bollywood day\, group day\, food fest\, followed by Freshers party.
URL:http://cmpp.org.in/event/cultural-and-sports-week-physiobeats-2025-26/
LOCATION:Chanchalben Mafatlal Patel College of Physiotherapy\, CMP College\, Civil Hospital Campus\, Sector 12B\,\, Gandhinagar\, Gujarat\, 382012\, India
ORGANIZER;CN="Chanchalben Mafatlal Patel College of Physiotherapy":MAILTO:info@cmpp.org.in
END:VEVENT
END:VCALENDAR